BEGIN:VCALENDAR
VERSION:2.0
PRODID:-//MA Demolay - ECPv6.14.2//NONSGML v1.0//EN
CALSCALE:GREGORIAN
METHOD:PUBLISH
X-ORIGINAL-URL:https://wp.mademolay.org
X-WR-CALDESC:Events for MA Demolay
REFRESH-INTERVAL;VALUE=DURATION:PT1H
X-Robots-Tag:noindex
X-PUBLISHED-TTL:PT1H
BEGIN:VTIMEZONE
TZID:America/New_York
BEGIN:DAYLIGHT
TZOFFSETFROM:-0500
TZOFFSETTO:-0400
TZNAME:EDT
DTSTART:20260308T070000
END:DAYLIGHT
BEGIN:STANDARD
TZOFFSETFROM:-0400
TZOFFSETTO:-0500
TZNAME:EST
DTSTART:20261101T060000
END:STANDARD
END:VTIMEZONE
BEGIN:VEVENT
DTSTART;TZID=America/New_York:20260308T170000
DTEND;TZID=America/New_York:20260308T193000
DTSTAMP:20260420T173135
CREATED:20260210T150714Z
LAST-MODIFIED:20260210T151008Z
UID:10000070-1772989200-1772998200@wp.mademolay.org
SUMMARY:Massachusetts DeMolay Degree of Chevalier for Aaron Hawley
DESCRIPTION:Come join us at Aaron Hawley’s Chevalier Investiture on Sunday\, March 8th at 5 pm! \nDinner will be served first with the degree and a coalition afterwards. \nRSVP by either calling 978-655-6559 or sending an email to Aaron.Hawley@mademolay.org
URL:https://wp.mademolay.org/event/massachusetts-demolay-degree-of-chevalier-for-aaron-hawley-announcement/
LOCATION:Haverhill Masonic Lodge\, 111 Merrimack St\, Haverhill\, MA\, 01830\, United States
END:VEVENT
END:VCALENDAR