BEGIN:VCALENDAR
VERSION:2.0
PRODID:-//MA Demolay - ECPv6.14.2//NONSGML v1.0//EN
CALSCALE:GREGORIAN
METHOD:PUBLISH
X-ORIGINAL-URL:https://wp.mademolay.org
X-WR-CALDESC:Events for MA Demolay
REFRESH-INTERVAL;VALUE=DURATION:PT1H
X-Robots-Tag:noindex
X-PUBLISHED-TTL:PT1H
BEGIN:VTIMEZONE
TZID:America/New_York
BEGIN:DAYLIGHT
TZOFFSETFROM:-0500
TZOFFSETTO:-0400
TZNAME:EDT
DTSTART:20260308T070000
END:DAYLIGHT
BEGIN:STANDARD
TZOFFSETFROM:-0400
TZOFFSETTO:-0500
TZNAME:EST
DTSTART:20261101T060000
END:STANDARD
END:VTIMEZONE
BEGIN:VEVENT
DTSTART;TZID=America/New_York:20260517T100000
DTEND;TZID=America/New_York:20260517T163000
DTSTAMP:20260420T231402
CREATED:20260307T004046Z
LAST-MODIFIED:20260402T231501Z
UID:10000072-1779012000-1779035400@wp.mademolay.org
SUMMARY:Massachusetts DeMolay Congress 2026
DESCRIPTION:Join Massachusetts DeMolay on May 17th\, 2026 10 AM to 4:30 PM at the Grand Lodge of Masons of Massachusetts for Congress!  The membership of Massachusetts DeMolay will be voting on proposed changes to our State Constitution. There will be a double degree for new members\, as well as lunch served for all who attend.\nHere is a schedule of what to expect for the day:\n\n\n10am to 10:30 am – Registration opens + short tours\n\n\n10:30 am to 11:30 am – Class #1 and #2\n\n\n11:30 am to 12:30 pm – Initiatory Degree\n\n\n12:30 pm to 1:30 pm – Lunch\n\n\n1:30 pm to 2:30 pm – Scavenger Hunt\n\n\n2:30 pm to 3:30 pm – DeMolay Degree \n\n\n3:30 pm to 4:30 pm – Legislative Session\n\n\n4:30 pm – State Announcements\n\n\nHave a call item that you’d like to have brought up at Congress? Click below to fill out the form.\n\nRegistration is $5 per attendee\, candidates and advisors are free. It is $10 for parking\, accommodations have been arranged with the Millennium Parking Garage immediately behind Grand Lodge. 1 Parking Pass per 1 vehicle attending. Register below. Registration is open till May 3rd.\n\n\nPlease contact the State master Concilor Aaron Halwey with any questions or concerns at statemastercouncilor@mademolay.org
URL:https://wp.mademolay.org/event/massachusetts-demolay-congress-2026/
LOCATION:Grand Lodge of Masons of Massachusetts\, 186 Tremont Street\, Boston\, MA\, 02111\, United States
END:VEVENT
BEGIN:VEVENT
DTSTART;TZID=America/New_York:20260518T180000
DTEND;TZID=America/New_York:20260518T210000
DTSTAMP:20260420T231402
CREATED:20260311T141403Z
LAST-MODIFIED:20260311T141403Z
UID:10000079-1779127200-1779138000@wp.mademolay.org
SUMMARY:Tekoa Chapter May Fun Night & Wornonoco Squires Meeting
DESCRIPTION:Join Tekoa Chapter for their fun night and Wornonoco Squires meeting on May 18th at the Westfield Masonic Lodge at 6 pm.
URL:https://wp.mademolay.org/event/tekoa-chapter-may-fun-night-wornonoco-squires-meeting/
LOCATION:Westfield Masonic Lodge\, 72 Broad Street\, Westfield\, MA\, 01085\, United States
ORGANIZER;CN="Al Giguere Jr":MAILTO:brotheral01@hotmail.com
END:VEVENT
BEGIN:VEVENT
DTSTART;TZID=America/New_York:20260620T130000
DTEND;TZID=America/New_York:20260620T160000
DTSTAMP:20260420T231402
CREATED:20260416T162233Z
LAST-MODIFIED:20260417T155624Z
UID:10000081-1781960400-1781971200@wp.mademolay.org
SUMMARY:Massachusetts DeMolay Disc Golf Tournament 2026
DESCRIPTION:Join Massachusetts DeMolay for the first-ever disc golf tournament on June 20th\, 2026\, at Maple Hill disc golf course\, Leicester\, MA\, at 1 pm. It will be an afternoon filled with fun in nature! It will be individual play\, but points for your chapter for the Ludwig\, and a chance at your own trophy!\nThere is a BBQ restaurant attached to the location as well\, which will be open after our tournament for those interested in purchasing food afterwards.\nThe cost for this event is $15\, please register below.\nThis event is capped at 35 player registrations. Registration will close June 7th\, 11:59 PM.\nPlease contact Dad Donovan Cargill with any questions at donovan.cargill@mademolay.org
URL:https://wp.mademolay.org/event/massachusetts-demolay-disc-golf-tournament-2026/
LOCATION:Maple Hill Disc Golf Course\, 132 Marshall Street\, Leicester\, MA\, 01524\, United States
ORGANIZER;CN="Donovan Cargill":MAILTO:donovan.cargill@mademolay.org
END:VEVENT
END:VCALENDAR