BEGIN:VCALENDAR
VERSION:2.0
PRODID:-//MA Demolay - ECPv6.14.2//NONSGML v1.0//EN
CALSCALE:GREGORIAN
METHOD:PUBLISH
X-WR-CALNAME:MA Demolay
X-ORIGINAL-URL:https://wp.mademolay.org
X-WR-CALDESC:Events for MA Demolay
REFRESH-INTERVAL;VALUE=DURATION:PT1H
X-Robots-Tag:noindex
X-PUBLISHED-TTL:PT1H
BEGIN:VTIMEZONE
TZID:America/New_York
BEGIN:DAYLIGHT
TZOFFSETFROM:-0500
TZOFFSETTO:-0400
TZNAME:EDT
DTSTART:20240310T070000
END:DAYLIGHT
BEGIN:STANDARD
TZOFFSETFROM:-0400
TZOFFSETTO:-0500
TZNAME:EST
DTSTART:20241103T060000
END:STANDARD
END:VTIMEZONE
BEGIN:VTIMEZONE
TZID:UTC
BEGIN:STANDARD
TZOFFSETFROM:+0000
TZOFFSETTO:+0000
TZNAME:UTC
DTSTART:20240101T000000
END:STANDARD
END:VTIMEZONE
BEGIN:VEVENT
DTSTART;TZID=America/New_York:20240317T140000
DTEND;TZID=America/New_York:20240317T170000
DTSTAMP:20260421T112758
CREATED:20240222T220820Z
LAST-MODIFIED:20240222T220820Z
UID:10000004-1710684000-1710694800@wp.mademolay.org
SUMMARY:Chevalier Investiture for Mark Collins and Carl Durham
DESCRIPTION:
URL:https://wp.mademolay.org/event/chevalier-investiture-for-mark-collins-and-carl-durham/
LOCATION:Newton Masonic Building\, 460 Newtonville Ave\, Newton\, MA\, 02460\, United States
END:VEVENT
BEGIN:VEVENT
DTSTART;TZID=UTC:20240129T080000
DTEND;TZID=UTC:20240129T170000
DTSTAMP:20260421T112758
CREATED:20220129T231412Z
LAST-MODIFIED:20240111T002151Z
UID:10000001-1706515200-1706547600@wp.mademolay.org
SUMMARY:Something Cool
DESCRIPTION:Awesome event!
URL:https://wp.mademolay.org/event/something-cool/
LOCATION:MA
END:VEVENT
END:VCALENDAR