BEGIN:VCALENDAR
VERSION:2.0
PRODID:-//MA Demolay - ECPv6.14.2//NONSGML v1.0//EN
CALSCALE:GREGORIAN
METHOD:PUBLISH
X-ORIGINAL-URL:https://wp.mademolay.org
X-WR-CALDESC:Events for MA Demolay
REFRESH-INTERVAL;VALUE=DURATION:PT1H
X-Robots-Tag:noindex
X-PUBLISHED-TTL:PT1H
BEGIN:VTIMEZONE
TZID:America/New_York
BEGIN:DAYLIGHT
TZOFFSETFROM:-0500
TZOFFSETTO:-0400
TZNAME:EDT
DTSTART:20250309T070000
END:DAYLIGHT
BEGIN:STANDARD
TZOFFSETFROM:-0400
TZOFFSETTO:-0500
TZNAME:EST
DTSTART:20251102T060000
END:STANDARD
END:VTIMEZONE
BEGIN:VEVENT
DTSTART;TZID=America/New_York:20250509T080000
DTEND;TZID=America/New_York:20250511T170000
DTSTAMP:20260421T085932
CREATED:20241231T202905Z
LAST-MODIFIED:20241231T202905Z
UID:10000013-1746777600-1746982800@wp.mademolay.org
SUMMARY:Springfest
DESCRIPTION:
URL:https://wp.mademolay.org/event/springfest/
LOCATION:Groton Woods\, 167 Prescott St\, Groton\, MA\, 01450\, United States
END:VEVENT
BEGIN:VEVENT
DTSTART;TZID=America/New_York:20250518T130000
DTEND;TZID=America/New_York:20250518T160000
DTSTAMP:20260421T085932
CREATED:20250211T203321Z
LAST-MODIFIED:20250211T203321Z
UID:10000017-1747573200-1747584000@wp.mademolay.org
SUMMARY:Charity Candlepin Tournament 2025
DESCRIPTION:Dust off those bowling shoes\, the Massachusetts DeMolay Charity Candlepin Tournament is coming fast on Sunday\, May 18\, 2025! This year we have 30 lanes rented out at Metrobowl in Peabody (63 Foster St #1\, Peabody\, MA 01960) to ensure that everyone can compete and raise as much as possible to support Alzheimer’s Research. The first frame starts promptly at 1:00 p.m.\, so be sure to get there ahead of time to get your shoes and get settled in your lane. \nRegistration for DeMolay Chapters is $100 per team\, which includes three strings of bowling and shoe rental. As mentioned above\, all proceeds will go to support Parkinson’s Research. \n\n\n \nIf you would like to help support this charitable effort but aren’t an active DeMolay\, you are still welcome to come bowl! The State Officers have reserved extra lanes for any Rainbow Assembly\, Masonic Lodge\, or any other group of bowlers that would like to join Massachusetts DeMolay for this event. Registration for non-DeMolay teams is $125.00 per team (shoes included). We hope to see you there! \n\nDo you want to support Alzheimer’s Research but can’t bowl? This year we’re introducing pin sponsorships! You can pledge to donate a fixed amount per pin a team or an individual has knocked down throughout the tournament. Afterwards we’ll send you an invoice based on how much you pledged and how many pins they knocked down. Click the link below to sign up for a sponsorship!
URL:https://wp.mademolay.org/event/charity-candlepin-tournament-2025/
LOCATION:Metrobowl\, 63 Foster St #1\, Peabody\, MA\, 01960\, United States
END:VEVENT
END:VCALENDAR