BEGIN:VCALENDAR
VERSION:2.0
PRODID:-//MA Demolay - ECPv6.14.2//NONSGML v1.0//EN
CALSCALE:GREGORIAN
METHOD:PUBLISH
X-ORIGINAL-URL:https://wp.mademolay.org
X-WR-CALDESC:Events for MA Demolay
REFRESH-INTERVAL;VALUE=DURATION:PT1H
X-Robots-Tag:noindex
X-PUBLISHED-TTL:PT1H
BEGIN:VTIMEZONE
TZID:America/New_York
BEGIN:DAYLIGHT
TZOFFSETFROM:-0500
TZOFFSETTO:-0400
TZNAME:EDT
DTSTART:20260308T070000
END:DAYLIGHT
BEGIN:STANDARD
TZOFFSETFROM:-0400
TZOFFSETTO:-0500
TZNAME:EST
DTSTART:20261101T060000
END:STANDARD
END:VTIMEZONE
BEGIN:VEVENT
DTSTART;VALUE=DATE:20260109
DTEND;VALUE=DATE:20260110
DTSTAMP:20260420T191324
CREATED:20250910T002642Z
LAST-MODIFIED:20250910T002642Z
UID:10000039-1767916800-1768003199@wp.mademolay.org
SUMMARY:Lowell Laser Tag
DESCRIPTION:Contact Lowell Chapter for more information!
URL:https://wp.mademolay.org/event/lowell-laser-tag/
LOCATION:MA
ORGANIZER;CN="Doug Hanks":MAILTO:dad_hanks@hotmail.com
END:VEVENT
BEGIN:VEVENT
DTSTART;TZID=America/New_York:20260110T170000
DTEND;TZID=America/New_York:20260110T200000
DTSTAMP:20260420T191324
CREATED:20251211T195115Z
LAST-MODIFIED:20251211T195115Z
UID:10000065-1768064400-1768075200@wp.mademolay.org
SUMMARY:Middleboro Chapter Installation of Officers
DESCRIPTION:Join Middleboro chapter for their installation of officers on January 10th\, 5 pm at Mayflower Lodge in Middleboro.\n\nPlease contact the chapter advisors for more information.
URL:https://wp.mademolay.org/event/middleboro-chapter-installation-of-officers/
LOCATION:May Flower Lodge A.F. & A.M\, 46 S Main St\, Middleborough\, MA\, 02346\, United States
ORGANIZER;CN="Shawn Connors":MAILTO:shawn.patrick.connors@gmail.com
END:VEVENT
BEGIN:VEVENT
DTSTART;TZID=America/New_York:20260117T130000
DTEND;TZID=America/New_York:20260117T170000
DTSTAMP:20260420T191324
CREATED:20251211T201113Z
LAST-MODIFIED:20251211T201113Z
UID:10000064-1768654800-1768669200@wp.mademolay.org
SUMMARY:Massachusetts DeMolay Clash Royale Tournament
DESCRIPTION:On January 17th\, we’re playing Clash Royale at the Lowell Masonic Lodge. The event will start at 1 pm and go until 5 pm. There will be snacks and drinks provided by the state. \n\nThe format will be a Duo vs Duo tournament. Players will draft the best cards to score crowns by having their troops reach the other team’s end zone. The team with the most crowns or the first with three crowns by the end of the three-minute timer wins! \nOnly DeMolays can participate to contribute to their chapter’s Ludwig trophy progress. \nBring your friends! We will be running a side tournament for those who haven’t joined yet. \nRegistration is free until Jan 5th\, 11:59 pm. After that\, it will be $10 to register your chapter.\nFor any questions\, please get in touch with the State Master Councilor\, Aaron Hawley\, at statemastercouncilor@mademolay.org
URL:https://wp.mademolay.org/event/massachusetts-demolay-clash-royale-tournament/
LOCATION:Lowell Masonic Building\, 79 Dutton St\, Lowell\, MA\, 01852\, United States
END:VEVENT
BEGIN:VEVENT
DTSTART;VALUE=DATE:20260123
DTEND;VALUE=DATE:20260124
DTSTAMP:20260420T191324
CREATED:20250910T002716Z
LAST-MODIFIED:20250910T002716Z
UID:10000040-1769126400-1769212799@wp.mademolay.org
SUMMARY:Lowell UMass Hockey Game
DESCRIPTION:Contact Lowell Chapter for more information!
URL:https://wp.mademolay.org/event/lowell-umass-hockey-game/
LOCATION:MA
ORGANIZER;CN="Doug Hanks":MAILTO:dad_hanks@hotmail.com
END:VEVENT
BEGIN:VEVENT
DTSTART;VALUE=DATE:20260130
DTEND;VALUE=DATE:20260131
DTSTAMP:20260420T191324
CREATED:20250910T002749Z
LAST-MODIFIED:20250910T002749Z
UID:10000041-1769731200-1769817599@wp.mademolay.org
SUMMARY:Lowell Bowling Event
DESCRIPTION:Contact Lowell Chapter for more information!
URL:https://wp.mademolay.org/event/lowell-bowling-event/
LOCATION:MA
ORGANIZER;CN="Doug Hanks":MAILTO:dad_hanks@hotmail.com
END:VEVENT
END:VCALENDAR