BEGIN:VCALENDAR
VERSION:2.0
PRODID:-//MA Demolay - ECPv6.14.2//NONSGML v1.0//EN
CALSCALE:GREGORIAN
METHOD:PUBLISH
X-ORIGINAL-URL:https://wp.mademolay.org
X-WR-CALDESC:Events for MA Demolay
REFRESH-INTERVAL;VALUE=DURATION:PT1H
X-Robots-Tag:noindex
X-PUBLISHED-TTL:PT1H
BEGIN:VTIMEZONE
TZID:America/New_York
BEGIN:DAYLIGHT
TZOFFSETFROM:-0500
TZOFFSETTO:-0400
TZNAME:EDT
DTSTART:20240310T070000
END:DAYLIGHT
BEGIN:STANDARD
TZOFFSETFROM:-0400
TZOFFSETTO:-0500
TZNAME:EST
DTSTART:20241103T060000
END:STANDARD
END:VTIMEZONE
BEGIN:VEVENT
DTSTART;TZID=America/New_York:20240923T090000
DTEND;TZID=America/New_York:20240923T170000
DTSTAMP:20260421T092357
CREATED:20240222T220101Z
LAST-MODIFIED:20240222T220101Z
UID:10000002-1727082000-1727110800@wp.mademolay.org
SUMMARY:2024 Bauer Golf Tournament
DESCRIPTION:Join us for a crisp spring day on the links this at the Fred K. Bauer Memorial Golf Tournament. The tournament will be on Monday\, Sepetember 23\, 2024 at the renowned Shaker Hills Country Club in Harvard\, MA. You can golf eighteen beautiful holes for the betterment of DeMolay in the afternoon and enjoy fellowship and food at the banquet afterwards. Don’t hesitate to enjoy the perfect day with your brothers!\n\nTournament Details\nThe tournament will start in a shotgun style with teams of four golfers teeing off from different holes at 9:00am. Teams will play by the scramble rules\, using the best ball on the course as a marker for the next round of shots. Don’t have a foursome to compete with? Not to worry! Anyone wanting to participate can register as an individual golfer and be placed into a foursome on the day of the tournament.\n\nBanquet & Raffle\nWhat tournament would be complete without some awesome food? After a long day of golf\, everyone is invited back to the country club for a delicious banquet among brothers. During the banquet\, everyone will be able to participate in a raffle as well as congratulate everyone that receives an award for their day on the links.\n\nSponsorship\nNot only can you support the program by golfing\, but you or your business can become a sponsor. Sponsorships are available for both Tee Boxes and Greens. You can also donate as a Silver or Gold level sponsor which include spots in the tournament and can include a Tee Box as well. Sponsorships can be made during the registration process.\n\n\n\n\nRegistration\nRegistration is now open and spots are limited so golfers are encouraged to register early. Multiple Tee Box and Green sponsors have already claimed several holes as well. Click on the link below to register and submit a sponsorship! All questions can be directed to Director Adam Azanow. See you on the green!\n\nWant to register by mail? Download the registration flyer here and mail it into the DeMolay Office.
URL:https://wp.mademolay.org/event/2024-bauer-golf-tournament/
LOCATION:Shaker Hill Country Club\, 146 Shaker Road\, Harvard\, MA\, 01451\, United States
END:VEVENT
END:VCALENDAR