BEGIN:VCALENDAR
VERSION:2.0
PRODID:-//MA Demolay - ECPv6.14.2//NONSGML v1.0//EN
CALSCALE:GREGORIAN
METHOD:PUBLISH
X-WR-CALNAME:MA Demolay
X-ORIGINAL-URL:https://wp.mademolay.org
X-WR-CALDESC:Events for MA Demolay
REFRESH-INTERVAL;VALUE=DURATION:PT1H
X-Robots-Tag:noindex
X-PUBLISHED-TTL:PT1H
BEGIN:VTIMEZONE
TZID:America/New_York
BEGIN:DAYLIGHT
TZOFFSETFROM:-0500
TZOFFSETTO:-0400
TZNAME:EDT
DTSTART:20250309T070000
END:DAYLIGHT
BEGIN:STANDARD
TZOFFSETFROM:-0400
TZOFFSETTO:-0500
TZNAME:EST
DTSTART:20251102T060000
END:STANDARD
END:VTIMEZONE
BEGIN:VEVENT
DTSTART;TZID=America/New_York:20250906T080000
DTEND;TZID=America/New_York:20250906T170000
DTSTAMP:20260421T062836
CREATED:20250904T200727Z
LAST-MODIFIED:20250904T200727Z
UID:10000029-1757145600-1757178000@wp.mademolay.org
SUMMARY:Grand Lodge One Day Class
DESCRIPTION:This weekend\, the Grand Lodge of Masons in Massachusetts is putting on a one–day class for DeMolay and Freemasonry at the Shriner’s Auditorium in Wilmington! On Friday night\, the State Suite will be performing the First and Second Degrees starting at 7:00 p.m. The State Suite has a surprise in store for everyone in attendance\, so you’ll want to be there! Meanwhile on Saturday\, Grand Lodge will be performing the Masonic First Degree for new brothers joining Masonry and holding a family day for everyone else. This includes a pig roast\, soccer\, and more! Grand Lodge is looking for our help throughout the day. If you want to come to the Double Degree Friday night\, please email the State Master Councilor\, Bro. Aaron Hawley\, and if you can help on Saturday\, please email “Dad” Mel Hook!
URL:https://wp.mademolay.org/event/grand-lodge-one-day-class/2025-09-06/
LOCATION:Shriner’s Auditorium\, 99 Fordham Rd\, Wilmington\, MA\, 01887\, United States
END:VEVENT
BEGIN:VEVENT
DTSTART;TZID=America/New_York:20250905T190000
DTEND;TZID=America/New_York:20250905T210000
DTSTAMP:20260421T062836
CREATED:20250904T200727Z
LAST-MODIFIED:20250904T200727Z
UID:10000028-1757098800-1757106000@wp.mademolay.org
SUMMARY:Grand Lodge One Day Class
DESCRIPTION:This weekend\, the Grand Lodge of Masons in Massachusetts is putting on a one–day class for DeMolay and Freemasonry at the Shriner’s Auditorium in Wilmington! On Friday night\, the State Suite will be performing the First and Second Degrees starting at 7:00 p.m. The State Suite has a surprise in store for everyone in attendance\, so you’ll want to be there! Meanwhile on Saturday\, Grand Lodge will be performing the Masonic First Degree for new brothers joining Masonry and holding a family day for everyone else. This includes a pig roast\, soccer\, and more! Grand Lodge is looking for our help throughout the day. If you want to come to the Double Degree Friday night\, please email the State Master Councilor\, Bro. Aaron Hawley\, and if you can help on Saturday\, please email “Dad” Mel Hook!
URL:https://wp.mademolay.org/event/grand-lodge-one-day-class/2025-09-05/
LOCATION:Shriner’s Auditorium\, 99 Fordham Rd\, Wilmington\, MA\, 01887\, United States
END:VEVENT
BEGIN:VEVENT
DTSTART;TZID=America/New_York:20250607T210000
DTEND;TZID=America/New_York:20250608T070000
DTSTAMP:20260421T062836
CREATED:20250501T025739Z
LAST-MODIFIED:20250501T025739Z
UID:10000024-1749330000-1749366000@wp.mademolay.org
SUMMARY:Awake-A-Thon 2025
DESCRIPTION:Do you have what it takes to stay up all night? Join us for Awake-A-Thon on June 7-8\, 2025\, at the Shriner’s Auditorium in Wilmington\, MA (99 Fordham Rd\, Wilmington\, MA 01887) for a night of food and fun as you try to brave the dark! The program will begin promptly at 9:00 p.m. and last through 7:00 a.m. \nYour registration of $25 will cover everything throughout the night and get you an Awake-A-Thon T-Shirt! If you registered for Springfest\, you can go to Awake-A-Thon FOR FREE\, just please contact “Dad” Ryan Garabedian so that we can properly account for your attendance. To register\, click the link below!
URL:https://wp.mademolay.org/event/awake-a-thon-2025/
LOCATION:Shriner’s Auditorium\, 99 Fordham Rd\, Wilmington\, MA\, 01887\, United States
END:VEVENT
END:VCALENDAR